BEGIN:VCALENDAR
VERSION:2.0
PRODID:-//ChamberMaster//Event Calendar 2.0//EN
METHOD:PUBLISH
X-PUBLISHED-TTL:P3D
REFRESH-INTERVAL:P3D
CALSCALE:GREGORIAN
BEGIN:VEVENT
DTSTART:20250409T233000Z
DTEND:20250410T013000Z
X-MICROSOFT-CDO-ALLDAYEVENT:FALSE
SUMMARY:Pisanki Egg Decorating Workshop
DESCRIPTION:Join  EagleARTS at ARTSPaCE to learn how to make Pisanki Easter Eggs - the Polish art and intricate process of patterning and coloring festive eggs.\n\nThis two hour introductory workshop is taught by Maria White.
X-ALT-DESC;FMTTYPE=text/html:<p>Join &nbsp\;EagleARTS at ARTSPaCE to learn how to make Pisanki Easter Eggs - the Polish art and intricate process of patterning and coloring festive eggs.</p>\n\n<p>This two hour introductory workshop is taught by Maria White.</p>\n
LOCATION:ARTSPaCE workshop+gallery 120 Broadway Street Eagle\, CO 81631
UID:e.2268.3521
SEQUENCE:3
DTSTAMP:20260423T183812Z
URL:http://eaglechamber.chambermaster.com/events/details/eaglearts-artspace-pisanki-egg-decorating-workshop-3521
END:VEVENT

END:VCALENDAR
