BEGIN:VCALENDAR
VERSION:2.0
PRODID:-//ChamberMaster//Event Calendar 2.0//EN
METHOD:PUBLISH
X-PUBLISHED-TTL:P3D
REFRESH-INTERVAL:P3D
CALSCALE:GREGORIAN
BEGIN:VEVENT
DTSTART:20150203T150000Z
DTEND:20150203T163000Z
X-MICROSOFT-CDO-ALLDAYEVENT:FALSE
SUMMARY:February Networking Breakfast
DESCRIPTION:February 3rd Networking Breakfast    \n\n8:00 - 9:30 a.m.
X-ALT-DESC;FMTTYPE=text/html:<strong><span style="font-size:18px\;"><span style="color:#008000\;">February 3rd Networking Breakfast</span></span></strong>&nbsp\;&nbsp\;&nbsp\;&nbsp\;<br />\n<span style="font-size:16px\;"><span style="color:#008000\;"><strong>8:00 - 9:30 a.m.</strong></span></span>
LOCATION:Alpine Bank Lower level conference room 0205 Chambers Avenue\, Eagle\, CO
UID:e.2268.3
SEQUENCE:3
DTSTAMP:20260419T233559Z
URL:http://eaglechamber.chambermaster.com/events/details/february-networking-breakfast-02-03-2015-3
END:VEVENT

END:VCALENDAR
