BEGIN:VCALENDAR
VERSION:2.0
PRODID:-//ChamberMaster//Event Calendar 2.0//EN
METHOD:PUBLISH
X-PUBLISHED-TTL:P3D
REFRESH-INTERVAL:P3D
CALSCALE:GREGORIAN
BEGIN:VEVENT
DTSTART:20251129T230000Z
DTEND:20251130T020000Z
X-MICROSOFT-CDO-ALLDAYEVENT:FALSE
SUMMARY:Santa Visit
DESCRIPTION:Stop by and see Santa at the North Pole!\n\nGet into the holiday spirit with a visit from Santa Claus\, featuring a special appearance by the Grinch.\n\n\n\nJoin us from 4 7 p.m. on five magical evenings:\n\nNovember 22 & 29 | December 6\, 13 & 20\n\n\n\nChildren under 12 receive free admission with a paid adult ticket. Experience Winter on the Mountain and enjoy festive lights\, live music\, and holiday cheer throughout the park.\n\n\n\nBring the whole family and make unforgettable memories this holiday season at Glenwood Caverns Adventure Park.
X-ALT-DESC;FMTTYPE=text/html:Stop by and see Santa at the North Pole!<br />\nGet into the holiday spirit with a visit from Santa Claus\, featuring a special appearance by the Grinch.<br />\n<br />\nJoin us from&nbsp\;4&ndash\;7 p.m.&nbsp\;on&nbsp\;five magical evenings:<br />\nNovember 22 &amp\; 29 | December 6\, 13 &amp\; 20<br />\n<br />\nChildren under 12 receive&nbsp\;free admission with a paid adult ticket. Experience&nbsp\;Winter on the Mountain&nbsp\;and enjoy festive lights\, live music\, and holiday cheer throughout the park.<br />\n<br />\nBring the whole family and make unforgettable memories this holiday season at Glenwood Caverns Adventure Park.
LOCATION:
UID:e.2268.3703
SEQUENCE:3
DTSTAMP:20260422T141605Z
URL:http://eaglechamber.chambermaster.com/events/details/santa-visit-3703
END:VEVENT

END:VCALENDAR
